BEGIN:VCALENDAR
VERSION:2.0
PRODID:-//TicketsFest.UA//EN
CALSCALE:GREGORIAN
METHOD:PUBLISH
BEGIN:VEVENT
UID:tour-2392@ticketsfest.com.ua
DTSTAMP:20260421T085231Z
DTSTART;TZID=Europe/Vatican:20260701T200000
DTEND;TZID=Europe/Vatican:20260701T230000
SUMMARY:YAKTAK
LOCATION:Неаполь, Спільне підґрунтя, Via Eduardo Scarfoglio, 7, Італія
DESCRIPTION:https://ticketsfest.com.ua/yaktak-tour/
END:VEVENT
END:VCALENDAR