BEGIN:VCALENDAR
VERSION:2.0
PRODID:-//TicketsFest.UA//EN
CALSCALE:GREGORIAN
METHOD:PUBLISH
BEGIN:VEVENT
UID:tour-2548@ticketsfest.com.ua
DTSTAMP:20260421T085504Z
DTSTART;TZID=Europe/Amsterdam:20260422T200000
DTEND;TZID=Europe/Amsterdam:20260422T230000
SUMMARY:Воплі Відоплясова. «40 років на сцені»
LOCATION:Амстердам, Toekomstmuziek, Danzigerbocht, 29, 1013 AM, Нідерланди
DESCRIPTION:https://ticketsfest.com.ua/vopli-vidopliassova-40-years/
END:VEVENT
END:VCALENDAR