BEGIN:VCALENDAR
VERSION:2.0
PRODID:-//TicketsFest.UA//EN
CALSCALE:GREGORIAN
METHOD:PUBLISH
BEGIN:VEVENT
UID:tour-2548@ticketsfest.com.ua
DTSTAMP:20260421T085613Z
DTSTART;TZID=Europe/Amsterdam:20260422T200000
DTEND;TZID=Europe/Amsterdam:20260422T230000
SUMMARY:Vopli Vidopliassova — “40 Years on Stage”
LOCATION:Amsterdam, Toekomstmuziek, Danzigerbocht, 29, 1013 AM, Netherlands
DESCRIPTION:https://ticketsfest.com.ua/en/vopli-vidopliassova-40-years/
END:VEVENT
END:VCALENDAR