BEGIN:VCALENDAR
VERSION:2.0
PRODID:-//TicketsFest.UA//EN
CALSCALE:GREGORIAN
METHOD:PUBLISH
BEGIN:VEVENT
UID:tour-3064@ticketsfest.com.ua
DTSTAMP:20260421T085231Z
DTSTART;TZID=Europe/Kyiv:20260503T180000
DTEND;TZID=Europe/Kyiv:20260503T210000
SUMMARY:SHUGAR
LOCATION:Жовті Води, КЗК «Палац культури», площа Миру, 4, 52200, Ukraine
DESCRIPTION:https://ticketsfest.com.ua/en/shugar-tour/
END:VEVENT
END:VCALENDAR