BEGIN:VCALENDAR
VERSION:2.0
PRODID:-//TicketsFest.UA//EN
CALSCALE:GREGORIAN
METHOD:PUBLISH
BEGIN:VEVENT
UID:tour-2775@ticketsfest.com.ua
DTSTAMP:20260421T085304Z
DTSTART;TZID=Europe/Warsaw:20260423T190000
DTEND;TZID=Europe/Warsaw:20260423T220000
SUMMARY:Комедійна вистава &#8211; Серцеїдки
LOCATION:Wroclaw, ATM Scena na Bielanach, Dwa Światy 1, Bielany Wrocławskie, 55-040, Poland
DESCRIPTION:https://ticketsfest.com.ua/en/serceidky-tour/
END:VEVENT
END:VCALENDAR