BEGIN:VCALENDAR
VERSION:2.0
PRODID:-//TicketsFest.UA//EN
CALSCALE:GREGORIAN
METHOD:PUBLISH
BEGIN:VEVENT
UID:tour-2390@ticketsfest.com.ua
DTSTAMP:20260421T085406Z
DTSTART;TZID=Europe/Zurich:20260421T200000
DTEND;TZID=Europe/Zurich:20260421T230000
SUMMARY:DZIDZIO
LOCATION:Zurich, Theater Spirgarten, Lindenplatz, 5, 8048, Switzerland
DESCRIPTION:https://ticketsfest.com.ua/en/dzidzio-tour/
END:VEVENT
END:VCALENDAR