BEGIN:VCALENDAR
VERSION:2.0
PRODID:-//TicketsFest.UA//EN
CALSCALE:GREGORIAN
METHOD:PUBLISH
BEGIN:VEVENT
UID:tour-2773@ticketsfest.com.ua
DTSTAMP:20260421T085537Z
DTSTART;TZID=Europe/London:20260421T210000
DTEND;TZID=Europe/London:20260422T000000
SUMMARY:ALENA OMARGALIEVA
LOCATION:Лондон, Studio 338, 338 Boord Street, SE10 0PF, Сполучене Королівство
DESCRIPTION:https://ticketsfest.com.ua/alena-omargalieva-tour/
END:VEVENT
END:VCALENDAR